View In:
ArcGIS JavaScript
ArcGIS Online Map Viewer
ArcGIS Earth
Service Description: WaterSurfaceElevations/100Year
Name: WaterSurfaceElevations/100Year
Description:
Single Fused Map Cache: false
Extent:
XMin: 288858.026600747
YMin: 4554196.668298144
XMax: 367878.026600747
YMax: 4604401.668298144
Spatial Reference: 26918
(26918)
LatestVCSWkid(0)
Initial Extent:
XMin: 288858.026600747
YMin: 4554196.668298144
XMax: 367878.026600747
YMax: 4604401.668298144
Spatial Reference: 26918
(26918)
LatestVCSWkid(0)
Full Extent:
XMin: 288858.026600747
YMin: 4554196.668298144
XMax: 367878.026600747
YMax: 4604401.668298144
Spatial Reference: 26918
(26918)
LatestVCSWkid(0)
Pixel Size X: 5.0
Pixel Size Y: 5.0
Band Count: 1
Pixel Type: F32
RasterFunction Infos: {"rasterFunctionInfos": [
{
"name": "Water Surface Elevation 100 Year",
"description": "A raster function template.",
"help": ""
},
{
"name": "None",
"description": "",
"help": ""
}
]}
Mensuration Capabilities: Basic
Inspection Capabilities:
Has Histograms: true
Has Colormap: false
Has Multi Dimensions : false
Rendering Rule:
Min Scale: 0
Max Scale: 0
Copyright Text:
Service Data Type: esriImageServiceDataTypeGeneric
Min Values: 487
Max Values: 1035.8863525390625
Mean Values: 591.2197492882468
Standard Deviation Values: 100.78585732918283
Object ID Field:
Fields:
None
Default Mosaic Method: Center
Allowed Mosaic Methods:
SortField:
SortValue: null
Mosaic Operator: First
Default Compression Quality: 75
Default Resampling Method: Nearest
Max Record Count: null
Max Image Height: 4100
Max Image Width: 15000
Max Download Image Count: null
Max Mosaic Image Count: null
Allow Raster Function: true
Allow Copy: true
Allow Analysis: true
Allow Compute TiePoints: false
Supports Statistics: false
Supports Advanced Queries: false
Use StandardizedQueries: true
Raster Type Infos:
Name: Raster Dataset
Description: Supports all ArcGIS Raster Datasets
Help:
Has Raster Attribute Table: false
Edit Fields Info: null
Ownership Based AccessControl For Rasters: null
Child Resources:
Info
Histograms
Statistics
Key Properties
Legend
Raster Function Infos
Supported Operations:
Export Image
Identify
Measure
Compute Histograms
Compute Statistics Histograms
Get Samples
Compute Class Statistics
Query Boundary
Compute Pixel Location
Compute Angles
Validate
Project