{
 "currentVersion": 11.5,
 "serviceDescription": "WaterSurfaceElevations/100Year",
 "serviceItemId": "4be031bfbf91427982c579cc59103f02",
 "name": "WaterSurfaceElevations/100Year",
 "description": "",
 "extent": {
  "xmin": 288858.026600747,
  "ymin": 4554196.668298144,
  "xmax": 367878.026600747,
  "ymax": 4604401.668298144,
  "spatialReference": {
   "wkid": 26918,
   "latestWkid": 26918
  }
 },
 "initialExtent": {
  "xmin": 288858.026600747,
  "ymin": 4554196.668298144,
  "xmax": 367878.026600747,
  "ymax": 4604401.668298144,
  "spatialReference": {
   "wkid": 26918,
   "latestWkid": 26918
  }
 },
 "fullExtent": {
  "xmin": 288858.026600747,
  "ymin": 4554196.668298144,
  "xmax": 367878.026600747,
  "ymax": 4604401.668298144,
  "spatialReference": {
   "wkid": 26918,
   "latestWkid": 26918
  }
 },
 "sortableFields": "",
 "bandCount": 1,
 "pixelType": "F32",
 "minValues": [
  487
 ],
 "maxValues": [
  1035.8863525390625
 ],
 "meanValues": [
  591.2197492882468
 ],
 "stdvValues": [
  100.78585732918283
 ],
 "serviceProperties": "Center<\/MosaicMethod>First<\/MosaicOperator>true<\/SortAscending><\/LockImageID><\/TileOrderField>0<\/TileOrderBase>0.000000<\/AvgImageSpacingX>0.000000<\/AvgImageSpacingY>0.0<\/ViewPointX>0.0<\/ViewPointY>0.0<\/ViewPointDefShiftX>0.0<\/ViewPointDefShiftY>None<\/CompressionMethod>75<\/CompressionQuality>0.010000<\/CompressionTolerance>Nearest<\/SamplingMethod><\/ImageServiceProperties><\/ImageServer>",
 "allowedFields": "",
 "hasMultidimensions": false,
 "pixelSizeX": 5,
 "pixelSizeY": 5,
 "meanPixelSize": 5,
 "datasetFormat": "FGDBR",
 "uncompressedSize": 634751856,
 "blockWidth": 128,
 "blockHeight": 128,
 "compressionType": "LZ77",
 "bandNames": [
  "Band_1"
 ],
 "allowCopy": true,
 "allowAnalysis": true,
 "itemAccess": false,
 "inspectionCapabilities": "",
 "minPixelSize": 0,
 "maxPixelSize": 0,
 "copyrightText": "",
 "serviceDataType": "esriImageServiceDataTypeGeneric",
 "serviceSourceType": "esriImageServiceSourceTypeDataset",
 "objectIdField": "",
 "fields": [],
 "capabilities": "Image,Metadata,Mensuration",
 "defaultMosaicMethod": "Center",
 "allowedMosaicMethods": "",
 "sortField": "",
 "sortValue": null,
 "sortAscending": true,
 "mosaicOperator": "First",
 "defaultCompressionQuality": 75,
 "defaultResamplingMethod": "Nearest",
 "maxImageHeight": 4100,
 "maxImageWidth": 15000,
 "allowRasterFunction": true,
 "rasterFunctionInfos": [
  {
   "name": "Water Surface Elevation 100 Year",
   "description": "A raster function template.",
   "help": ""
  },
  {
   "name": "None",
   "description": "",
   "help": ""
  }
 ],
 "rasterTypeInfos": [
  {
   "name": "Raster Dataset",
   "description": "Supports all ArcGIS Raster Datasets",
   "help": ""
  }
 ],
 "mensurationCapabilities": "Basic",
 "hasHistograms": true,
 "hasColormap": false,
 "hasRasterAttributeTable": false,
 "minScale": 0,
 "maxScale": 0,
 "exportTilesAllowed": false,
 "supportsStatistics": false,
 "supportsAdvancedQueries": false,
 "editFieldsInfo": null,
 "ownershipBasedAccessControlForRasters": null,
 "allowComputeTiePoints": false,
 "useStandardizedQueries": true,
 "advancedQueryCapabilities": {
  "useStandardizedQueries": true,
  "supportsStatistics": false,
  "supportsOrderBy": false,
  "supportsDistinct": false,
  "supportsPagination": false
 },
 "spatialReference": {
  "wkid": 26918,
  "latestWkid": 26918
 }
}
